BEGIN:VCALENDAR
VERSION:2.0
PRODID:-//Astro Coaching - ECPv6.15.20//NONSGML v1.0//EN
CALSCALE:GREGORIAN
METHOD:PUBLISH
X-WR-CALNAME:Astro Coaching
X-ORIGINAL-URL:https://astro-coaching.ro
X-WR-CALDESC:Evenimente pentru Astro Coaching
REFRESH-INTERVAL;VALUE=DURATION:PT1H
X-Robots-Tag:noindex
X-PUBLISHED-TTL:PT1H
BEGIN:VTIMEZONE
TZID:Europe/Bucharest
BEGIN:DAYLIGHT
TZOFFSETFROM:+0200
TZOFFSETTO:+0300
TZNAME:EEST
DTSTART:20240331T010000
END:DAYLIGHT
BEGIN:STANDARD
TZOFFSETFROM:+0300
TZOFFSETTO:+0200
TZNAME:EET
DTSTART:20241027T010000
END:STANDARD
BEGIN:DAYLIGHT
TZOFFSETFROM:+0200
TZOFFSETTO:+0300
TZNAME:EEST
DTSTART:20250330T010000
END:DAYLIGHT
BEGIN:STANDARD
TZOFFSETFROM:+0300
TZOFFSETTO:+0200
TZNAME:EET
DTSTART:20251026T010000
END:STANDARD
BEGIN:DAYLIGHT
TZOFFSETFROM:+0200
TZOFFSETTO:+0300
TZNAME:EEST
DTSTART:20260329T010000
END:DAYLIGHT
BEGIN:STANDARD
TZOFFSETFROM:+0300
TZOFFSETTO:+0200
TZNAME:EET
DTSTART:20261025T010000
END:STANDARD
END:VTIMEZONE
BEGIN:VTIMEZONE
TZID:UTC
BEGIN:STANDARD
TZOFFSETFROM:+0000
TZOFFSETTO:+0000
TZNAME:UTC
DTSTART:20210101T000000
END:STANDARD
END:VTIMEZONE
BEGIN:VEVENT
DTSTART;VALUE=DATE:20250619
DTEND;VALUE=DATE:20250623
DTSTAMP:20260424T011011
CREATED:20250417T152209Z
LAST-MODIFIED:20250417T152553Z
UID:4206-1750291200-1750636799@astro-coaching.ro
SUMMARY:Retreat de Solstițiu de Vară
DESCRIPTION:Un spațiu sacru de reconectare cu natura\, practică și autocunoaștere.Timp de 4 zile lucrăm cu energia solstițiului prin astrologie\, ritualuri și meditație\, într-un cadru natural cu puternic impact transformațional. \n📍 Cetățile Dacice\, Costești (jud. Hunedoara)📅 19 – 22 Iunie 2025 \nSesiuni ghidate de Alina Tănăsescu – astrolog\, astro-coach \n \nInclude cazare\, mese și activități ghidate. \n📩 Înscrieri: alina@astro-coaching.ro🌐 www.astro-coaching.ro📞 +40 722 245 533 \nLocuri limitate – Rezervă-ți locul acum!
URL:https://astro-coaching.ro/eveniment/retreat-de-solstitiu-de-vara/
LOCATION:Cetățile Dacice\, Costești (jud. Hunedoara)\, Cetățile Dacice\, Costesti\, Hunedoara\, 337327\, Romania
END:VEVENT
BEGIN:VEVENT
DTSTART;TZID=UTC:20220404T200000
DTEND;TZID=UTC:20220404T213000
DTSTAMP:20260424T011011
CREATED:20220330T174208Z
LAST-MODIFIED:20220330T174619Z
UID:3622-1649102400-1649107800@astro-coaching.ro
SUMMARY:Astro-Coaching
DESCRIPTION:Pe 4 aprilie va invitam la o super sesiune de Astrologie si Tameana Puja – Karma de neam. Ne vom concentra asupra relatiilor si proiectelor personale. Vom invata cum sa identificam elementele astrologice care ne indica potentialul afectiv: Luna\, Venus si Lilith.\nVom incheia sesiunea cu Tameana Puja – constelatie familiala care poate debloca influentele experientelor din trecut asupra relatiilor noastre\, asupra emotionalului. Ne vom conecta cu scopurile pe care vrem sa le indeplinim: serviciu\, dragoste\, sanatate\, tot ce dorim sa manifestam. \nFacilitatori:\nAstro-coaching: Astrolog Alina Tanasescu\nTerapeut Tameana: Cristiana Stoian\nSesiunea se desfasoara pe zoom.\nParticipare prin donatie\nExprima-ti potentialul maxim!\nInscrieri pe: what’s up:0722245533 sau in messanger
URL:https://astro-coaching.ro/eveniment/astro-coaching/
LOCATION:Online
CATEGORIES:Online
ATTACH;FMTTYPE=image/jpeg:https://astro-coaching.ro/wp-content/uploads/2022/03/event-bla-bla.jpg
ORGANIZER;CN="Alina T%C4%83n%C4%83sescu":MAILTO:astrocoaching2022@gmail.com
END:VEVENT
END:VCALENDAR